BEGIN:VCALENDAR
VERSION:2.0
PRODID:-//ChamberMaster//Event Calendar 2.0//EN
METHOD:PUBLISH
X-PUBLISHED-TTL:P3D
REFRESH-INTERVAL:P3D
CALSCALE:GREGORIAN
BEGIN:VEVENT
DTSTART:20221012T230000Z
DTEND:20221013T010000Z
X-MICROSOFT-CDO-ALLDAYEVENT:FALSE
SUMMARY:2022 Prospective Board Member Event
DESCRIPTION:
X-ALT-DESC;FMTTYPE=text/html:
LOCATION:Roots Kitchen & Bar 4000 James Hill Rd
UID:e.708.889
SEQUENCE:3
DTSTAMP:20260421T021633Z
URL:http://reginaanddistrictchamber.chambermaster.com/events/details/2022-prospective-board-member-event-889
END:VEVENT

END:VCALENDAR
